BEGIN:VCALENDAR
VERSION:2.0
PRODID:-//SOLIHA Normandie Seine - ECPv4.9.13//NONSGML v1.0//EN
CALSCALE:GREGORIAN
METHOD:PUBLISH
X-WR-CALNAME:SOLIHA Normandie Seine
X-ORIGINAL-URL:https://www.soliha-normandie-seine.fr
X-WR-CALDESC:Évènements pour SOLIHA Normandie Seine
BEGIN:VTIMEZONE
TZID:Europe/Paris
BEGIN:DAYLIGHT
TZOFFSETFROM:+0100
TZOFFSETTO:+0200
TZNAME:CEST
DTSTART:20190331T010000
END:DAYLIGHT
BEGIN:STANDARD
TZOFFSETFROM:+0200
TZOFFSETTO:+0100
TZNAME:CET
DTSTART:20191027T010000
END:STANDARD
END:VTIMEZONE
BEGIN:VEVENT
DTSTART;TZID=Europe/Paris:20191028T143000
DTEND;TZID=Europe/Paris:20191028T143000
DTSTAMP:20260425T225000
CREATED:20191003T090923Z
LAST-MODIFIED:20191003T090923Z
UID:1652-1572273000-1572273000@www.soliha-normandie-seine.fr
SUMMARY:ATELIERS BIEN CHEZ SOI A GRAVIGNY
DESCRIPTION:Venez découvrir l’atelier « Bien Chez Soi » le Lundi 28 octobre 2019 à 14h30 au club des retraités de la MGEN – Gravigny (33ter Avenue Aristide Briand – 27930 Gravigny). \nOrganisé par SOLIHA (Solidaires pour l’Habitat) en partenariat avec le club des retraités de la MGEN et l’ASEPT\, vous pourrez profiter d’astuces et de conseils pour améliorer votre logement au quotidien\, en le rendant plus pratique\, sûr et confortable. \nVenez nombreux découvrir et tester des accessoires innovants\, apprendre à préserver votre corps\, améliorer le confort de votre logement et connaître les possibilités d’aménagements et les aides financières possibles. \nCette première réunion sera suivie de 3 ateliers thématiques les mercredi 6\, 20 novembre et 4 décembre 2019 (Salle du club des retraités de la MGEN\, 33ter Avenue Aristide Briand – 27930 Gravigny)\, pour lesquels il faut s’inscrire. \nRenseignements et inscriptions auprès de SOLIHA au 02. 32. 39. 84. 00. \n \n
URL:https://www.soliha-normandie-seine.fr/agenda-evenement/ateliers-bien-chez-soi-a-gravigny-2/
END:VEVENT
END:VCALENDAR